BEGIN:VCALENDAR
VERSION:2.0
PRODID:-//Plone.org//NONSGML plone.app.event//EN
X-WR-TIMEZONE:Europe/Berlin
BEGIN:VEVENT
SUMMARY:Grand opening of Mercator Research Institute on Global Commons and
  Climate Change (MCC)
DTSTART;TZID=Europe/Berlin;VALUE=DATE-TIME:20121115T180000
DTEND;TZID=Europe/Berlin;VALUE=DATE-TIME:20121115T200000
DTSTAMP;VALUE=DATE-TIME:20260421T164325Z
UID:8130494a14b4acd32e7e0b1605b55b1b@localhost:8080
CONTACT:http://www.mcc-berlin.net/index.php?id=97&L=1
CREATED;VALUE=DATE-TIME:20121106T160720Z
DESCRIPTION:Ottmar Edenhofer\, deputy director and chief economist at PIK\
 , speaks as director of the new Mercator Research Institute on Global Comm
 ons and Climate Change (MCC). The MCC is founded jointly by Stiftung Merca
 tor and PIK.
LAST-MODIFIED;VALUE=DATE-TIME:20200831T102626Z
LOCATION:Audimax\, EUREF-Campus\, Torgauer Str. 12-15\, Berlin
URL:https://www.pik-potsdam.de/en/news/events/feierliche-eroeffnung-des-me
 rcator-research-institute-on-global-commons-and-climate-change-mcc
END:VEVENT
BEGIN:VTIMEZONE
TZID:Europe/Berlin
X-LIC-LOCATION:Europe/Berlin
BEGIN:STANDARD
DTSTART;VALUE=DATE-TIME:20121028T020000
TZNAME:CET
TZOFFSETFROM:+0200
TZOFFSETTO:+0100
END:STANDARD
END:VTIMEZONE
END:VCALENDAR
