BEGIN:VCALENDAR
VERSION:2.0
PRODID:-//Plone.org//NONSGML plone.app.event//EN
X-WR-TIMEZONE:Europe/Berlin
BEGIN:VEVENT
SUMMARY:RD2 General Assembly on 14 October 2015
DTSTART;TZID=Europe/Berlin;VALUE=DATE-TIME:20151014T141000
DTEND;TZID=Europe/Berlin;VALUE=DATE-TIME:20151014T160000
DTSTAMP;VALUE=DATE-TIME:20210814T051855Z
UID:696cc69c545d4255b512fa75c99723a8@localhost:8080
CATEGORIES:1a - Research Department / Unit: RD2 - Climate Resilience
CONTACT:Peggy Gräfe
CREATED;VALUE=DATE-TIME:20151001T121633Z
LAST-MODIFIED;VALUE=DATE-TIME:20200831T082532Z
LOCATION:Building H
URL:https://www.pik-potsdam.de/en/institute/departments/climate-resilience
 /news-events-rd2/rd2-general-assembly
END:VEVENT
BEGIN:VTIMEZONE
TZID:Europe/Berlin
X-LIC-LOCATION:Europe/Berlin
BEGIN:DAYLIGHT
DTSTART;VALUE=DATE-TIME:20150329T030000
TZNAME:CEST
TZOFFSETFROM:+0100
TZOFFSETTO:+0200
END:DAYLIGHT
END:VTIMEZONE
END:VCALENDAR
