BEGIN:VCALENDAR
VERSION:2.0
PRODID:-//Plone.org//NONSGML plone.app.event//EN
X-WR-TIMEZONE:Europe/Berlin
BEGIN:VEVENT
SUMMARY:31.05. - 3.06.2015 Workshop für Schüler in Polen
DTSTART;TZID=Europe/Berlin;VALUE=DATE-TIME:20150326T140500
DTEND;TZID=Europe/Berlin;VALUE=DATE-TIME:20150326T140500
DTSTAMP;VALUE=DATE-TIME:20260423T030710Z
UID:62fb6b5b67f44bf48f338ae1868e320b@localhost:8080
CREATED;VALUE=DATE-TIME:20150326T140317Z
LAST-MODIFIED;VALUE=DATE-TIME:20151218T102944Z
LOCATION:Polen\, Krzyzowa (ca. 50 km von Wroclaw)
URL:https://www.pik-potsdam.de/de/institut/abteilungen/klimaresilienz/proj
 ekte/projektseiten/pikee/termine/31-05-3-06-2015-workshop-fuer-schueler-in
 -polen
END:VEVENT
BEGIN:VTIMEZONE
TZID:Europe/Berlin
X-LIC-LOCATION:Europe/Berlin
BEGIN:STANDARD
DTSTART;VALUE=DATE-TIME:20141026T020000
TZNAME:CET
TZOFFSETFROM:+0200
TZOFFSETTO:+0100
END:STANDARD
END:VTIMEZONE
END:VCALENDAR
