BEGIN:VCALENDAR
VERSION:2.0
PRODID:-//Plone.org//NONSGML plone.app.event//EN
X-WR-TIMEZONE:Europe/Berlin
BEGIN:VEVENT
SUMMARY:18./19.11.2014\, Workshop auf dem "2. International Symposium Clim
 ate Justice 2014"
DTSTART;TZID=Europe/Berlin;VALUE=DATE-TIME:20141118T080000
DTEND;TZID=Europe/Berlin;VALUE=DATE-TIME:20141119T170000
DTSTAMP;VALUE=DATE-TIME:20260423T013050Z
UID:0e4cfc839dff4ed6aaea66d4b46e1a1c@localhost:8080
CREATED;VALUE=DATE-TIME:20140722T134352Z
LAST-MODIFIED;VALUE=DATE-TIME:20151218T102944Z
LOCATION:Klimahaus Bremerhaven
URL:https://www.pik-potsdam.de/de/institut/abteilungen/klimaresilienz/proj
 ekte/projektseiten/pikee/termine/18-19-11-2014-2-international-symposium-c
 limate-justice-2014
END:VEVENT
BEGIN:VTIMEZONE
TZID:Europe/Berlin
X-LIC-LOCATION:Europe/Berlin
BEGIN:STANDARD
DTSTART;VALUE=DATE-TIME:20141026T020000
TZNAME:CET
TZOFFSETFROM:+0200
TZOFFSETTO:+0100
END:STANDARD
END:VTIMEZONE
END:VCALENDAR
