BEGIN:VCALENDAR
VERSION:2.0
PRODID:-//Plone.org//NONSGML plone.app.event//EN
X-WR-TIMEZONE:Europe/Berlin
BEGIN:VEVENT
SUMMARY:01.- 06. Oktober 2015\, Deutscher Kongress für Geographie 2015 in
  Berlin
DTSTART;TZID=Europe/Berlin;VALUE=DATE-TIME:20151001T122000
DTEND;TZID=Europe/Berlin;VALUE=DATE-TIME:20151006T122000
DTSTAMP;VALUE=DATE-TIME:20260422T232110Z
UID:08ae08b7411f46f2ba2f52f85c4b28f7@localhost:8080
CREATED;VALUE=DATE-TIME:20150107T112301Z
LAST-MODIFIED;VALUE=DATE-TIME:20151218T102943Z
LOCATION:Berlin
URL:https://www.pik-potsdam.de/de/institut/abteilungen/klimaresilienz/proj
 ekte/projektseiten/pikee/termine/1-6-oktober-2015-deutscher-kongress-fuer-
 geographie-2015-berlin
END:VEVENT
BEGIN:VTIMEZONE
TZID:Europe/Berlin
X-LIC-LOCATION:Europe/Berlin
BEGIN:DAYLIGHT
DTSTART;VALUE=DATE-TIME:20150329T030000
TZNAME:CEST
TZOFFSETFROM:+0100
TZOFFSETTO:+0200
END:DAYLIGHT
END:VTIMEZONE
END:VCALENDAR
