BEGIN:VCALENDAR
VERSION:2.0
PRODID:-//Plone.org//NONSGML plone.app.event//EN
X-WR-TIMEZONE:Europe/Berlin
BEGIN:VEVENT
SUMMARY:Feierliche Eröffnung des Mercator Research Institute on Global Co
 mmons and Climate Change (MCC)
DTSTART;TZID=Europe/Berlin;VALUE=DATE-TIME:20121115T180000
DTEND;TZID=Europe/Berlin;VALUE=DATE-TIME:20121115T200000
DTSTAMP;VALUE=DATE-TIME:20260421T112001Z
UID:6325acbb3f2c7c29592d936ba89566dc@localhost:8080
CONTACT:http://www.mcc-berlin.net/index.php?id=97
CREATED;VALUE=DATE-TIME:20121106T160720Z
DESCRIPTION:Ottmar Edenhofer\, stellvertretender Direktor und Chefökonom 
 des PIK\, spricht als Direktor des neuen Mercator Research Institute on Gl
 obal Commons and Climate Change (MCC). Das MCC ist eine gemeinsame Gründu
 ng der Stiftung Mercator und des PIK.
LAST-MODIFIED;VALUE=DATE-TIME:20230619T132714Z
LOCATION:Audimax\, EUREF-Campus\, Torgauer Str. 12-15\, Berlin
URL:https://www.pik-potsdam.de/de/aktuelles/veranstaltungen/feierliche-ero
 effnung-des-mercator-research-institute-on-global-commons-and-climate-chan
 ge-mcc
END:VEVENT
BEGIN:VTIMEZONE
TZID:Europe/Berlin
X-LIC-LOCATION:Europe/Berlin
BEGIN:STANDARD
DTSTART;VALUE=DATE-TIME:20121028T020000
TZNAME:CET
TZOFFSETFROM:+0200
TZOFFSETTO:+0100
END:STANDARD
END:VTIMEZONE
END:VCALENDAR
