BEGIN:VCALENDAR
VERSION:2.0
PRODID:-//Plone.org//NONSGML plone.app.event//EN
X-WR-TIMEZONE:Europe/Berlin
BEGIN:VEVENT
SUMMARY:XXI. Rohkunstbau: Energiepolitischer Salon
DTSTART;TZID=Europe/Berlin;VALUE=DATE-TIME:20150823T110000
DTEND;TZID=Europe/Berlin;VALUE=DATE-TIME:20150823T130000
DTSTAMP;VALUE=DATE-TIME:20210814T051147Z
UID:a6eee3b3151c44fea78d63148a70c1b5@localhost:8080
CONTACT:http://www.politische-bildung-brandenburg.de/veranstaltungen/energ
 iepolitischer-salon-im-rahmen-der-xxi-rohkunstbau-ausstellung
CREATED;VALUE=DATE-TIME:20150824T101102Z
DESCRIPTION:Diskussion. Die künstlerische Ausstellung XXI. Rohkunstbau th
 ematisiert die Auseinandersetzung mit Apokalypse\, Übergang und Neuanfang
 . Der angeschlossene energiepolitische Salon greift als Diskussionsrunde d
 iese Thematik auf und setzt sie mit Fokus auf die Energiewende in einen ak
 tuellen Kontext. PIK-Wissenschaftler Fritz Reusswig diskutiert mit anderen
  Experten und Künstlern Chancen und Perspektiven. Mit anschließender Fü
 hrung\, Anmeldung erbeten.
LAST-MODIFIED;VALUE=DATE-TIME:20200831T102624Z
LOCATION:Schloß Roskow
URL:https://www.pik-potsdam.de/de/aktuelles/oeffentliche-veranstaltungen/x
 xi-rohkunstbau-energiepolitischer-salon
END:VEVENT
BEGIN:VTIMEZONE
TZID:Europe/Berlin
X-LIC-LOCATION:Europe/Berlin
BEGIN:DAYLIGHT
DTSTART;VALUE=DATE-TIME:20150329T030000
TZNAME:CEST
TZOFFSETFROM:+0100
TZOFFSETTO:+0200
END:DAYLIGHT
END:VTIMEZONE
END:VCALENDAR
