BEGIN:VCALENDAR
VERSION:2.0
PRODID:-//Plone.org//NONSGML plone.app.event//EN
X-WR-TIMEZONE:Europe/Berlin
BEGIN:VEVENT
SUMMARY:"Worlds within Reach: From Science to Policy" IIASA 40th Anniversa
 ry Conference
DTSTART;TZID=Europe/Berlin;VALUE=DATE-TIME:20121024T173000
DTEND;TZID=Europe/Berlin;VALUE=DATE-TIME:20121024T184500
DTSTAMP;VALUE=DATE-TIME:20210814T051246Z
UID:8c6fe0c6b0cd4deeaf8f7bdc156e1d1b@localhost:8080
CONTACT:http://conference2012.iiasa.ac.at/program.html
CREATED;VALUE=DATE-TIME:20121019T124159Z
DESCRIPTION:Hans Joachim Schellnhuber\, PIK-Direktor\, moderiert im Rahmen
  der IIASA-Konferenz\, die vom 24. bis 26. Oktober in der Wiener Hofburg s
 tattfindet\, die Session "The Multiple Co-benefits of a Cleaner\, More Equ
 itable World". Termin der Session ist am 24.10. um 17.30 Uhr.
LAST-MODIFIED;VALUE=DATE-TIME:20200831T102626Z
LOCATION:Wien
URL:https://www.pik-potsdam.de/de/aktuelles/oeffentliche-veranstaltungen/w
 orlds-within-reach-from-science-to-policy-iiasa-40th-anniversary-conferenc
 e
END:VEVENT
BEGIN:VTIMEZONE
TZID:Europe/Berlin
X-LIC-LOCATION:Europe/Berlin
BEGIN:DAYLIGHT
DTSTART;VALUE=DATE-TIME:20120325T030000
TZNAME:CEST
TZOFFSETFROM:+0100
TZOFFSETTO:+0200
END:DAYLIGHT
END:VTIMEZONE
END:VCALENDAR
