BEGIN:VCALENDAR
VERSION:2.0
PRODID:-//Plone.org//NONSGML plone.app.event//EN
X-WR-TIMEZONE:Europe/Berlin
BEGIN:VEVENT
SUMMARY:World Health Summit 2014
DTSTART;TZID=Europe/Berlin;VALUE=DATE-TIME:20141019T170000
DTEND;TZID=Europe/Berlin;VALUE=DATE-TIME:20141022T150000
DTSTAMP;VALUE=DATE-TIME:20210814T051226Z
UID:d120cc0eac7f49aca8f63328fba79b1d@localhost:8080
CONTACT:http://www.worldhealthsummit.org/
CREATED;VALUE=DATE-TIME:20140814T155531Z
DESCRIPTION:Im Jahr 2050 werden rund zwei Drittel aller Menschen in Städt
 en leben. Was bedeutet das für die Gesundheitsversorgung? Wie können wir
  schon heute dafür sorgen\, dass sich Krankheiten in Megacities zukünfti
 g nicht zu Epidemien entwickeln? Um solche Fragen geht es auf dem 6. World
  Health Summit vom 19. – 22. Oktober 2014 in Berlin. 
LAST-MODIFIED;VALUE=DATE-TIME:20151012T092226Z
LOCATION:Auswärtigen Amt in Berlin
URL:https://www.pik-potsdam.de/de/aktuelles/oeffentliche-veranstaltungen/w
 orld-health-summit-2014
END:VEVENT
BEGIN:VTIMEZONE
TZID:Europe/Berlin
X-LIC-LOCATION:Europe/Berlin
BEGIN:DAYLIGHT
DTSTART;VALUE=DATE-TIME:20140330T030000
TZNAME:CEST
TZOFFSETFROM:+0100
TZOFFSETTO:+0200
END:DAYLIGHT
END:VTIMEZONE
END:VCALENDAR
