BEGIN:VCALENDAR
VERSION:2.0
PRODID:-//Plone.org//NONSGML plone.app.event//EN
X-WR-TIMEZONE:Europe/Berlin
BEGIN:VEVENT
SUMMARY:Workshop: Religious and Spiritual Perspectives on Climate Engineer
 ing
DTSTART;TZID=Europe/Berlin;VALUE=DATE-TIME:20130424T000000
DTEND;TZID=Europe/Berlin;VALUE=DATE-TIME:20130426T000000
DTSTAMP;VALUE=DATE-TIME:20210814T051307Z
UID:3139fbf0e9474a418a775decee8ed3e6@localhost:8080
CREATED;VALUE=DATE-TIME:20130201T133334Z
DESCRIPTION:PIK-Wissenschaftler Dieter Gerten lädt zusammen mit dem IASS 
 ein\, im Rahmen des Workshops religiöse und geistige Perspektiven und Asp
 ekte von Climate-Engineering-Technologien zu diskutieren.\n
LAST-MODIFIED;VALUE=DATE-TIME:20200831T102626Z
LOCATION:Potsdam
URL:https://www.pik-potsdam.de/de/aktuelles/oeffentliche-veranstaltungen/w
 orkshop-religious-and-spiritual-perspectives-on-climate-engineering
END:VEVENT
BEGIN:VTIMEZONE
TZID:Europe/Berlin
X-LIC-LOCATION:Europe/Berlin
BEGIN:DAYLIGHT
DTSTART;VALUE=DATE-TIME:20130331T030000
TZNAME:CEST
TZOFFSETFROM:+0100
TZOFFSETTO:+0200
END:DAYLIGHT
END:VTIMEZONE
END:VCALENDAR
