BEGIN:VCALENDAR
VERSION:2.0
PRODID:-//Plone.org//NONSGML plone.app.event//EN
X-WR-TIMEZONE:Europe/Berlin
BEGIN:VEVENT
SUMMARY:Wissenschaft trifft Musik - Benefizkonzert zugunsten der Stiftung 
 NaturTon
DTSTART;TZID=Europe/Berlin;VALUE=DATE-TIME:20140830T200000
DTEND;TZID=Europe/Berlin;VALUE=DATE-TIME:20140830T200000
DTSTAMP;VALUE=DATE-TIME:20210814T051234Z
UID:ede5611c070547c4a75dbfdeec6db6c6@localhost:8080
CONTACT:http://www.staatsoper-berlin.de/de_DE/calendar-2014-2015/wissensch
 aft-trifft-musik.12273894
CREATED;VALUE=DATE-TIME:20140717T093030Z
DESCRIPTION:Klimawissenschaftler gestalten gemeinsam mit Musikern ein Konz
 ert an einem ungewöhnlichen Ort\, dem Großen Refraktor auf dem Potsdamer
  Telegrafenberg. 
LAST-MODIFIED;VALUE=DATE-TIME:20151012T092227Z
LOCATION:Großer Refraktor\, Wissenschaftspark Albert Einstein\, Telegrafe
 nberg\, Potsdam 
URL:https://www.pik-potsdam.de/de/aktuelles/oeffentliche-veranstaltungen/w
 issenschaft-trifft-musik-benefizkonzert-zugunsten-der-stiftung-naturton
END:VEVENT
BEGIN:VTIMEZONE
TZID:Europe/Berlin
X-LIC-LOCATION:Europe/Berlin
BEGIN:DAYLIGHT
DTSTART;VALUE=DATE-TIME:20140330T030000
TZNAME:CEST
TZOFFSETFROM:+0100
TZOFFSETTO:+0200
END:DAYLIGHT
END:VTIMEZONE
END:VCALENDAR
