BEGIN:VCALENDAR
VERSION:2.0
PRODID:-//Plone.org//NONSGML plone.app.event//EN
X-WR-TIMEZONE:Europe/Berlin
BEGIN:VEVENT
SUMMARY:Was kostet es\, die Welt zu retten?
DTSTART;TZID=Europe/Berlin;VALUE=DATE-TIME:20141020T140000
DTEND;TZID=Europe/Berlin;VALUE=DATE-TIME:20141020T170000
DTSTAMP;VALUE=DATE-TIME:20210814T051229Z
UID:fcefac3ba0744f438f7ed2ce9ddb6281@localhost:8080
CONTACT:https://www.hwr-berlin.de/fileadmin/downloads_internet/aktuelles/t
 ermine-veranstaltungen/Plakat_SG_zum_20.10.2014.pdf
CREATED;VALUE=DATE-TIME:20141015T152249Z
DESCRIPTION:Öffentlicher Vortrag. PIK-Chefökonom Ottmar Edenhofer äuße
 rt seine Ansichten zur Bedeutung der Wissenschaft und der Verantwortung de
 r Politik im Kontext des Klimawandels. Wie können diese Bereiche zusammen
 arbeiten angesichts der globalen Herausforderung des Klimaschutzes? Öffen
 tlicher Vortrag mit anschließender Diskussionsrunde an der HWR Berlin.
LAST-MODIFIED;VALUE=DATE-TIME:20200831T102624Z
LOCATION:HWR Berlin
URL:https://www.pik-potsdam.de/de/aktuelles/oeffentliche-veranstaltungen/w
 as-kostet-es-die-welt-zu-retten-vortrag-von-prof-dr-ottmar-edenhofer
END:VEVENT
BEGIN:VTIMEZONE
TZID:Europe/Berlin
X-LIC-LOCATION:Europe/Berlin
BEGIN:DAYLIGHT
DTSTART;VALUE=DATE-TIME:20140330T030000
TZNAME:CEST
TZOFFSETFROM:+0100
TZOFFSETTO:+0200
END:DAYLIGHT
END:VTIMEZONE
END:VCALENDAR
