BEGIN:VCALENDAR
VERSION:2.0
PRODID:-//Plone.org//NONSGML plone.app.event//EN
X-WR-TIMEZONE:Europe/Berlin
BEGIN:VEVENT
SUMMARY:Warum am Nordpol keine Palmen wachsen
DTSTART;TZID=Europe/Berlin;VALUE=DATE-TIME:20120626T000000
DTEND;TZID=Europe/Berlin;VALUE=DATE-TIME:20120626T000000
DTSTAMP;VALUE=DATE-TIME:20210814T051238Z
UID:83e8dd4af5fb4bc88421eb60add5abf9@localhost:8080
CONTACT:https://www.olb.de/dieolb/13928.php
CREATED;VALUE=DATE-TIME:20120207T123248Z
DESCRIPTION:PIK-Wissenschaftler Stefan Rahmstorf hält eine Vortrag im Rah
 men der Vortragsreihe des OLB Forums "Wissen und Zukunft" zum Thema Wolken
 \, Wind und Wetter. Dieser Vortrag\, insbesondere an Schüler gerichtet\, 
 erklärt warum am Nordpol keine Palmen wachsen\, wie ein Hurrikan entsteht
  und ob wir Menschen das Klima ändern können. 
LAST-MODIFIED;VALUE=DATE-TIME:20151012T092246Z
LOCATION:Cloppenburg
URL:https://www.pik-potsdam.de/de/aktuelles/oeffentliche-veranstaltungen/w
 arum-am-nordpol-keine-palmen-wachsen
END:VEVENT
BEGIN:VTIMEZONE
TZID:Europe/Berlin
X-LIC-LOCATION:Europe/Berlin
BEGIN:DAYLIGHT
DTSTART;VALUE=DATE-TIME:20120325T030000
TZNAME:CEST
TZOFFSETFROM:+0100
TZOFFSETTO:+0200
END:DAYLIGHT
END:VTIMEZONE
END:VCALENDAR
