BEGIN:VCALENDAR
VERSION:2.0
PRODID:-//Plone.org//NONSGML plone.app.event//EN
X-WR-TIMEZONE:Europe/Berlin
BEGIN:VEVENT
SUMMARY:Vorstellung des Berichts „Global Energy Assessment (GEA)“
DTSTART;TZID=Europe/Berlin;VALUE=DATE-TIME:20121212T140000
DTEND;TZID=Europe/Berlin;VALUE=DATE-TIME:20121212T160000
DTSTAMP;VALUE=DATE-TIME:20210814T051305Z
UID:5b6bf3bc419b4472b7a373f2efd9a370@localhost:8080
CONTACT:http://www.wbgu.de/presse-termine/veranstaltungen/gea-bericht-2012
 /
CREATED;VALUE=DATE-TIME:20121203T095128Z
DESCRIPTION:Die Leiterin des PIK-Forschungsbereichs IV "Transdisziplinäre
  Konzepte und Methoden" Helga Weisz und Nebojsa Nakicenovic\, WBGU\, IIASA
  und Professor für Energiewirtschaft\nan der TU Wien\, stellen am 12. Dez
 ember die wesentlichen Ergebnisse des Global Energy\nAssessment-Berichts (
 GEA) vor.\n
LAST-MODIFIED;VALUE=DATE-TIME:20200831T102626Z
LOCATION:Bundesministerium für Umwelt\, Naturschutz und Reaktorsicherheit
  (BMU)\, Stresemannstraße 128-130\, 10117 Berlin\, Atrium 
URL:https://www.pik-potsdam.de/de/aktuelles/oeffentliche-veranstaltungen/v
 orstellung-des-berichts-201eglobal-energy-assessment-gea-201c
END:VEVENT
BEGIN:VTIMEZONE
TZID:Europe/Berlin
X-LIC-LOCATION:Europe/Berlin
BEGIN:STANDARD
DTSTART;VALUE=DATE-TIME:20121028T020000
TZNAME:CET
TZOFFSETFROM:+0200
TZOFFSETTO:+0100
END:STANDARD
END:VTIMEZONE
END:VCALENDAR
