BEGIN:VCALENDAR
VERSION:2.0
PRODID:-//Plone.org//NONSGML plone.app.event//EN
X-WR-TIMEZONE:Europe/Berlin
BEGIN:VEVENT
SUMMARY:Verliert der Golfstrom an Kraft?
DTSTART;TZID=Europe/Berlin;VALUE=DATE-TIME:20150619T190000
DTEND;TZID=Europe/Berlin;VALUE=DATE-TIME:20150619T210000
DTSTAMP;VALUE=DATE-TIME:20210814T051145Z
UID:ed70d4f587164259ae447d7e854688bf@localhost:8080
CONTACT:http://www.bhb-sternwarte-berlin.de/bhbs_kalender.html
CREATED;VALUE=DATE-TIME:20150617T093647Z
DESCRIPTION:Vortrag. Eine Studie des PIK belegt die langsame Abschwächung
  des Golfstromes. Dieses gewaltige Strömungssystem transportiert normaler
 weise verlässlich wärmere Wassermassen in den Nordatlantik und bestimmt 
 so maßgeblich das milde Klima in Westeuropa. PIK-Forscher Georg Feulner z
 um Klimawandel als möglichem Verdächtigem und denkbaren Folgen für unse
 r Wetter.
LAST-MODIFIED;VALUE=DATE-TIME:20200831T102623Z
LOCATION:Bruno-H.-Bürgel-Sternwarte\, Berlin
URL:https://www.pik-potsdam.de/de/aktuelles/oeffentliche-veranstaltungen/v
 erliert-der-golfstrom-an-kraft
END:VEVENT
BEGIN:VTIMEZONE
TZID:Europe/Berlin
X-LIC-LOCATION:Europe/Berlin
BEGIN:DAYLIGHT
DTSTART;VALUE=DATE-TIME:20150329T030000
TZNAME:CEST
TZOFFSETFROM:+0100
TZOFFSETTO:+0200
END:DAYLIGHT
END:VTIMEZONE
END:VCALENDAR
