BEGIN:VCALENDAR
VERSION:2.0
PRODID:-//Plone.org//NONSGML plone.app.event//EN
X-WR-TIMEZONE:Europe/Berlin
BEGIN:VEVENT
SUMMARY:Über Lebenskunst: Hans Joachim Schellnhuber und Lars Gustafsson i
 m Gespräch
DTSTART;TZID=Europe/Berlin;VALUE=DATE-TIME:20121120T200000
DTEND;TZID=Europe/Berlin;VALUE=DATE-TIME:20121120T220000
DTSTAMP;VALUE=DATE-TIME:20210814T051246Z
UID:43385cbeaf7b4989851d05d72e712b8d@localhost:8080
CONTACT:Deutsches Theater Berlin\, http://www.deutschestheater.de/spielpla
 n/spielplan/ueber_lebenskunst/
CREATED;VALUE=DATE-TIME:20121009T134845Z
DESCRIPTION:Hans Joachim Schellnhuber\, PIK-Direktor\, und Lars Gustafsson
 \, Dichter\, Philosoph\, Romancier\, im Gespräch am Deutschen Theater Ber
 lin.
LAST-MODIFIED;VALUE=DATE-TIME:20200831T102625Z
LOCATION:Berlin
URL:https://www.pik-potsdam.de/de/aktuelles/oeffentliche-veranstaltungen/u
 eber-lebenskunst-hans-joachim-schellnhuber-und-lars-gustafsson-im-gespraec
 h
END:VEVENT
BEGIN:VTIMEZONE
TZID:Europe/Berlin
X-LIC-LOCATION:Europe/Berlin
BEGIN:STANDARD
DTSTART;VALUE=DATE-TIME:20121028T020000
TZNAME:CET
TZOFFSETFROM:+0200
TZOFFSETTO:+0100
END:STANDARD
END:VTIMEZONE
END:VCALENDAR
