BEGIN:VCALENDAR
VERSION:2.0
PRODID:-//Plone.org//NONSGML plone.app.event//EN
X-WR-TIMEZONE:Europe/Berlin
BEGIN:VEVENT
SUMMARY:Treffpunkt Wissenswerte - Von Klima\, Daten\, Eis und Meer
DTSTART;TZID=Europe/Berlin;VALUE=DATE-TIME:20150216T180000
DTEND;TZID=Europe/Berlin;VALUE=DATE-TIME:20150216T203000
DTSTAMP;VALUE=DATE-TIME:20210814T051232Z
UID:93bbbd0f99c0488c8bc196c544efbe4c@localhost:8080
CONTACT:http://www.wis-potsdam.de/de/prowissen-potsdam-ev/treffpunkt-wisse
 nswerte-eiszeit-klima-daten-eis-und-meer
CREATED;VALUE=DATE-TIME:20150128T155308Z
DESCRIPTION:„Westantarktis überschreitet Kipppunkt“ - „Grönlands E
 is ist nicht zu retten“. Im Rahmen der Ausstellung "Arktische Spirale" d
 iskutieren die Experten Andreas Groh vom Deutschen GeoForschungszentrum\, 
 Hans-Wolfgang Hubberten vom Alfred-Wegener-Zentrum und Stefan Rahmstorf vo
 m Potsdam-Institut für Klimafolgenforschung den Stand der Dinge in der Kl
 imaforschung. Was wissen wir sicher\, wo sind wir unsicher\, welche Handlu
 ngsoptionen bieten sich? Veranstaltet vom RBB Inforadio und dem pro Wissen
  Potsdam e.V. 
LAST-MODIFIED;VALUE=DATE-TIME:20200831T102625Z
LOCATION:Wissenschaftsetage im Bildungsforum Potsdam
URL:https://www.pik-potsdam.de/de/aktuelles/oeffentliche-veranstaltungen/t
 reffpunkt-wissenswerte-eiszeit-von-klima-daten-eis-und-meer
END:VEVENT
BEGIN:VTIMEZONE
TZID:Europe/Berlin
X-LIC-LOCATION:Europe/Berlin
BEGIN:STANDARD
DTSTART;VALUE=DATE-TIME:20141026T020000
TZNAME:CET
TZOFFSETFROM:+0200
TZOFFSETTO:+0100
END:STANDARD
END:VTIMEZONE
END:VCALENDAR
