BEGIN:VCALENDAR
VERSION:2.0
PRODID:-//Plone.org//NONSGML plone.app.event//EN
X-WR-TIMEZONE:Europe/Berlin
BEGIN:VEVENT
SUMMARY:tazlab-Kongress: Stefan Rahmstorf diskutiert über Sinn und Unsinn
  von Klimakonferenzen
DTSTART;TZID=Europe/Berlin;VALUE=DATE-TIME:20130420T113000
DTEND;TZID=Europe/Berlin;VALUE=DATE-TIME:20130420T131500
DTSTAMP;VALUE=DATE-TIME:20210814T051304Z
UID:b4647299deb74695b7019895067759ba@localhost:8080
CONTACT:http://www.tazlab.de/programm/track/%C3%96ko/340.de.html
CREATED;VALUE=DATE-TIME:20130321T092714Z
DESCRIPTION:Stefan Rahmstorf und Oliver Geden\, Klimapolitik-Experte bei d
 er Stiftung Wissenschaft und Politik (SWP)\, diskutieren unter dem Titel "
 Wie blöde ist das denn?" über den Bedeutungsverlust von alljährlichen i
 nternationalen Klimakonferenzen ohne Ergebnis und die Blockade von klimapo
 litischen Verträgen durch einzelne politische Entscheidungsträger. Darü
 ber hinaus werden die beiden Experten die internationale Vorbildfunktion d
 er deutschen Energiewende hinterfragen. Moderiert wird die Diskussionsrund
 e vom taz-Redakteur Martin Reeh.\n(Eintrittskarten für die Veranstaltung 
 müssen beim Veranstalter erworben werden!)
LAST-MODIFIED;VALUE=DATE-TIME:20200831T102622Z
LOCATION:Haus der Kulturen der Welt
URL:https://www.pik-potsdam.de/de/aktuelles/oeffentliche-veranstaltungen/t
 azlab-kongress-stefan-rahmstorf-u.a.-diskutieren-ueber-alljaehrliche-klima
 konferenzen-ohne-ergebnis
END:VEVENT
BEGIN:VTIMEZONE
TZID:Europe/Berlin
X-LIC-LOCATION:Europe/Berlin
BEGIN:DAYLIGHT
DTSTART;VALUE=DATE-TIME:20130331T030000
TZNAME:CEST
TZOFFSETFROM:+0100
TZOFFSETTO:+0200
END:DAYLIGHT
END:VTIMEZONE
END:VCALENDAR
