BEGIN:VCALENDAR
VERSION:2.0
PRODID:-//Plone.org//NONSGML plone.app.event//EN
X-WR-TIMEZONE:Europe/Berlin
BEGIN:VEVENT
SUMMARY:Tagung: Kartographische Episteme. Visuelle Praktiken Alexander von
  Humboldts
DTSTART;TZID=Europe/Berlin;VALUE=DATE-TIME:20130531T100000
DTEND;TZID=Europe/Berlin;VALUE=DATE-TIME:20130531T110000
DTSTAMP;VALUE=DATE-TIME:20210814T051305Z
UID:bede5778a5104836934a971ba790881f@localhost:8080
CONTACT:http://www.sichtbarkeit-sichtbarmachung.de/events/s/article/kartog
 raphie-tagung/
CREATED;VALUE=DATE-TIME:20130514T075443Z
DESCRIPTION:Thomas Nocke vom Potsdam-Institut für Klimafolgenforschung u.
 a. diskutieren über die Entstehung und computerbasierte Rekonstruktion de
 r Klimazonenkarte Alexander von Humboldts. Dies Veranstaltung findet im Ra
 hmen des Graduiertenkollegs »Sichtbarkeit und Sichtbarmachung. Hybride Fo
 rmen des Bildwissens« statt.
LAST-MODIFIED;VALUE=DATE-TIME:20200831T102623Z
LOCATION:Universität Potsdam\, Neues Palais\, Haus 8\, Raum 60/61
URL:https://www.pik-potsdam.de/de/aktuelles/oeffentliche-veranstaltungen/t
 agung-kartographische-episteme.-visuelle-praktiken-alexander-von-humboldts
END:VEVENT
BEGIN:VTIMEZONE
TZID:Europe/Berlin
X-LIC-LOCATION:Europe/Berlin
BEGIN:DAYLIGHT
DTSTART;VALUE=DATE-TIME:20130331T030000
TZNAME:CEST
TZOFFSETFROM:+0100
TZOFFSETTO:+0200
END:DAYLIGHT
END:VTIMEZONE
END:VCALENDAR
