BEGIN:VCALENDAR
VERSION:2.0
PRODID:-//Plone.org//NONSGML plone.app.event//EN
X-WR-TIMEZONE:Europe/Berlin
BEGIN:VEVENT
SUMMARY:Tag der Talente 2012
DTSTART;TZID=Europe/Berlin;VALUE=DATE-TIME:20120915T160000
DTEND;TZID=Europe/Berlin;VALUE=DATE-TIME:20120917T115500
DTSTAMP;VALUE=DATE-TIME:20210814T051246Z
UID:35608a6a631148dc9d9857c031eb4fa0@localhost:8080
CONTACT:http://www.bmbf.de/de/10594.php
CREATED;VALUE=DATE-TIME:20120911T120753Z
DESCRIPTION:Ottmar Edenhofer\, stellvertretender Direktor und Chefökonom 
 des PIK\, hält am Montag\, 17. September um 10.35 Uhr eine Festrede im Ra
 hmen des "Tag der Talente 2012"\, den das Bundesministerium für Bildung u
 nd Forschung für begabte Jugendliche organisiert. 
LAST-MODIFIED;VALUE=DATE-TIME:20200831T102625Z
LOCATION:Berlin
URL:https://www.pik-potsdam.de/de/aktuelles/oeffentliche-veranstaltungen/t
 ag-der-talente-2012
END:VEVENT
BEGIN:VTIMEZONE
TZID:Europe/Berlin
X-LIC-LOCATION:Europe/Berlin
BEGIN:DAYLIGHT
DTSTART;VALUE=DATE-TIME:20120325T030000
TZNAME:CEST
TZOFFSETFROM:+0100
TZOFFSETTO:+0200
END:DAYLIGHT
END:VTIMEZONE
END:VCALENDAR
