BEGIN:VCALENDAR
VERSION:2.0
PRODID:-//Plone.org//NONSGML plone.app.event//EN
X-WR-TIMEZONE:Europe/Berlin
BEGIN:VEVENT
SUMMARY:Symposium: Energiewende mit Intelligenz
DTSTART;TZID=Europe/Berlin;VALUE=DATE-TIME:20120621T090000
DTEND;TZID=Europe/Berlin;VALUE=DATE-TIME:20120621T180000
DTSTAMP;VALUE=DATE-TIME:20210814T051248Z
UID:31d8214e727b41b78d503c7e69343898@localhost:8080
CONTACT:http://www.berliner-e-agentur.de/veranstaltungen/symposium-energie
 wende-mit-intelligenz
CREATED;VALUE=DATE-TIME:20120424T121940Z
DESCRIPTION:PIK-Wissenschaftler Stefan Rahmstorf hält den Impulsvortrag a
 uf dem Symposium "Energiewende mit Intelligenz" der HTW Berlin und mit Bet
 eiligung der Berliner Energieagentur.
LAST-MODIFIED;VALUE=DATE-TIME:20151012T092247Z
LOCATION:HTW Berlin\, Campus Wilhelminenhof
URL:https://www.pik-potsdam.de/de/aktuelles/oeffentliche-veranstaltungen/s
 ymposium-energiewende-mit-intelligenz
END:VEVENT
BEGIN:VTIMEZONE
TZID:Europe/Berlin
X-LIC-LOCATION:Europe/Berlin
BEGIN:DAYLIGHT
DTSTART;VALUE=DATE-TIME:20120325T030000
TZNAME:CEST
TZOFFSETFROM:+0100
TZOFFSETTO:+0200
END:DAYLIGHT
END:VTIMEZONE
END:VCALENDAR
