BEGIN:VCALENDAR
VERSION:2.0
PRODID:-//Plone.org//NONSGML plone.app.event//EN
X-WR-TIMEZONE:Europe/Berlin
BEGIN:VEVENT
SUMMARY:Swiss Energy and Climate Summit (SwissECS)
DTSTART;TZID=Europe/Berlin;VALUE=DATE-TIME:20120912T083000
DTEND;TZID=Europe/Berlin;VALUE=DATE-TIME:20120914T152000
DTSTAMP;VALUE=DATE-TIME:20210814T051246Z
UID:dcc0cc121ac34d928d3458b41a5c2bdb@localhost:8080
CONTACT:http://www.cleantech-switzerland.com/images/content/events/Swissec
 s.pdf
CREATED;VALUE=DATE-TIME:20120911T095652Z
DESCRIPTION:Beim Swiss Energy and Climate Summit (SwissECS) debattiert Ott
 mar Edenhofer\, stellvertretender Direktor und Chefökonom des PIK\, neben
  Bundeskanzler a.D. Gerhard Schröder und weiteren Vertretern aus Wirtscha
 ft\, Politik und Wissenschaft über aktuelle Themen der Energie- und Klima
 problematik.
LAST-MODIFIED;VALUE=DATE-TIME:20200831T102625Z
LOCATION:Bern\, Schweiz
URL:https://www.pik-potsdam.de/de/aktuelles/oeffentliche-veranstaltungen/s
 wiss-energy-and-climate-summit-swissecs
END:VEVENT
BEGIN:VTIMEZONE
TZID:Europe/Berlin
X-LIC-LOCATION:Europe/Berlin
BEGIN:DAYLIGHT
DTSTART;VALUE=DATE-TIME:20120325T030000
TZNAME:CEST
TZOFFSETFROM:+0100
TZOFFSETTO:+0200
END:DAYLIGHT
END:VTIMEZONE
END:VCALENDAR
