BEGIN:VCALENDAR
VERSION:2.0
PRODID:-//Plone.org//NONSGML plone.app.event//EN
X-WR-TIMEZONE:Europe/Berlin
BEGIN:VEVENT
SUMMARY:Nachhaltigkeit Re-Loaded
DTSTART;TZID=Europe/Berlin;VALUE=DATE-TIME:20120605T183000
DTEND;TZID=Europe/Berlin;VALUE=DATE-TIME:20120605T203000
DTSTAMP;VALUE=DATE-TIME:20210814T051258Z
UID:a8c2ca25f5f24c88ad3f78a9c5314802@localhost:8080
CONTACT:http://www.fes.de/GPol/pdf/FES_Nachhaltigkeit_Reloaded_050612.pdf
CREATED;VALUE=DATE-TIME:20120525T120842Z
DESCRIPTION:PIK-Direktor Hans Joachim Schellnhuber hält den Eröffnungsvo
 rtrag zur Diskussionsveranstaltung "Nachaltigkeit Re-Loaded? Auf dem Weg z
 um Rio+20 Gipfel"\, ausgerichtet von der Friedrich-Ebert-Stiftung und Oxfa
 m.
LAST-MODIFIED;VALUE=DATE-TIME:20151012T092247Z
LOCATION:Kalkscheune\, Berlin
URL:https://www.pik-potsdam.de/de/aktuelles/oeffentliche-veranstaltungen/s
 ustainability-re-loaded
END:VEVENT
BEGIN:VTIMEZONE
TZID:Europe/Berlin
X-LIC-LOCATION:Europe/Berlin
BEGIN:DAYLIGHT
DTSTART;VALUE=DATE-TIME:20120325T030000
TZNAME:CEST
TZOFFSETFROM:+0100
TZOFFSETTO:+0200
END:DAYLIGHT
END:VTIMEZONE
END:VCALENDAR
