BEGIN:VCALENDAR
VERSION:2.0
PRODID:-//Plone.org//NONSGML plone.app.event//EN
X-WR-TIMEZONE:Europe/Berlin
BEGIN:VEVENT
SUMMARY:Stadtforum 2030: Wo steht Berlin\, wohin geht Berlin?
DTSTART;TZID=Europe/Berlin;VALUE=DATE-TIME:20130424T170000
DTEND;TZID=Europe/Berlin;VALUE=DATE-TIME:20130424T200000
DTSTAMP;VALUE=DATE-TIME:20210814T051309Z
UID:812c886c207b405fbad65fe774d3826b@localhost:8080
CONTACT:http://www.berlin.de/2030
CREATED;VALUE=DATE-TIME:20130411T084205Z
DESCRIPTION:Berlin wächst. Die Bevölkerungszahl steigt und auch\ndie Wir
 tschaft holt auf. Es gilt\, dieses Wachstum für\neine zukunftsfähige Ent
 wicklung Berlins zu nutzen.\nDazu braucht es eine Perspektive\, die der St
 adtentwicklung\nden Weg weist\, damit Berlin ökonomisch stabiler\, gesell
 schaftlich attraktiver\, sozial ausgeglichener und international noch aner
 kannter wird. Hierzu diskutieren Fritz Reusswig vom Potsdam-Institut für 
 Klimafolgenforschung\, Michael Müller\, Senator für Stadtentwicklung und
  Umwelt\, u.a. im Berliner Rathaus.
LAST-MODIFIED;VALUE=DATE-TIME:20200831T102622Z
LOCATION:Berliner Rathaus\, Festsaal Rathausstraße 15\, 10178 Berlin
URL:https://www.pik-potsdam.de/de/aktuelles/oeffentliche-veranstaltungen/s
 tadtforum-2030-wo-steht-berlin-wohin-geht-berlin
END:VEVENT
BEGIN:VTIMEZONE
TZID:Europe/Berlin
X-LIC-LOCATION:Europe/Berlin
BEGIN:DAYLIGHT
DTSTART;VALUE=DATE-TIME:20130331T030000
TZNAME:CEST
TZOFFSETFROM:+0100
TZOFFSETTO:+0200
END:DAYLIGHT
END:VTIMEZONE
END:VCALENDAR
