BEGIN:VCALENDAR
VERSION:2.0
PRODID:-//Plone.org//NONSGML plone.app.event//EN
X-WR-TIMEZONE:Europe/Berlin
BEGIN:VEVENT
SUMMARY:STADT FÜR EINE NACHT 2014
DTSTART;TZID=Europe/Berlin;VALUE=DATE-TIME:20140712T173000
DTEND;TZID=Europe/Berlin;VALUE=DATE-TIME:20140712T190000
DTSTAMP;VALUE=DATE-TIME:20210814T051235Z
UID:b4d98f0f88584e418bc12058ec744cf1@localhost:8080
CONTACT:http://schiffbauergasse.de/index.php?p=1732
CREATED;VALUE=DATE-TIME:20140627T122433Z
DESCRIPTION:Vortrag von Dr. phil. Fritz Reusswig\, Diplomsoziologe vom Pot
 sdam-Institut für Klimafolgenforschung (PIK)\, zum Thema: »Ein klimafreu
 ndliches Potsdam 2050« auf der Veranstaltung die STADT FÜR EINE NACHT 20
 14. 
LAST-MODIFIED;VALUE=DATE-TIME:20151012T092227Z
LOCATION:Hans Otto Theater/Haus „Reithalle A“\, Schiffbauergasse\, 144
 67 Potsdam
URL:https://www.pik-potsdam.de/de/aktuelles/oeffentliche-veranstaltungen/s
 tadt-fuer-eine-nacht-2014
END:VEVENT
BEGIN:VTIMEZONE
TZID:Europe/Berlin
X-LIC-LOCATION:Europe/Berlin
BEGIN:DAYLIGHT
DTSTART;VALUE=DATE-TIME:20140330T030000
TZNAME:CEST
TZOFFSETFROM:+0100
TZOFFSETTO:+0200
END:DAYLIGHT
END:VTIMEZONE
END:VCALENDAR
