BEGIN:VCALENDAR
VERSION:2.0
PRODID:-//Plone.org//NONSGML plone.app.event//EN
X-WR-TIMEZONE:Europe/Berlin
BEGIN:VEVENT
SUMMARY:Sommerschule zu globaler Nachhaltigkeit 2012
DTSTART;TZID=Europe/Berlin;VALUE=DATE-TIME:20120708T000000
DTEND;TZID=Europe/Berlin;VALUE=DATE-TIME:20120721T000000
DTSTAMP;VALUE=DATE-TIME:20210814T051243Z
UID:6886d32e8c49421f915529bdf5d63283@localhost:8080
CONTACT:http://www.gsss-potsdam.org/
CREATED;VALUE=DATE-TIME:20120416T111433Z
DESCRIPTION:Die diesjährige Sommerschule versucht die naturwissenschaftli
 che Perspektive mit der wirtschaftswissenschaftlichen zu verbinden und leg
 t den Schwerpunkt auf Risiken und ihre Vermeidung. Ausgerichtet wird sie v
 om PIK in Zusammenarbeit mit dem IASS und der Universität Santa Fe\, sowi
 e gefördert von der Robert-Bosch-Stiftung.
LAST-MODIFIED;VALUE=DATE-TIME:20151012T092246Z
LOCATION:Potsdam
URL:https://www.pik-potsdam.de/de/aktuelles/oeffentliche-veranstaltungen/s
 ommerschule-zu-globaler-nachhaltigkeit
END:VEVENT
BEGIN:VTIMEZONE
TZID:Europe/Berlin
X-LIC-LOCATION:Europe/Berlin
BEGIN:DAYLIGHT
DTSTART;VALUE=DATE-TIME:20120325T030000
TZNAME:CEST
TZOFFSETFROM:+0100
TZOFFSETTO:+0200
END:DAYLIGHT
END:VTIMEZONE
END:VCALENDAR
