BEGIN:VCALENDAR
VERSION:2.0
PRODID:-//Plone.org//NONSGML plone.app.event//EN
X-WR-TIMEZONE:Europe/Berlin
BEGIN:VEVENT
SUMMARY:Science Slam im Wissenschaftsjahr: Das Finale in Berlin
DTSTART;TZID=Europe/Berlin;VALUE=DATE-TIME:20121127T200000
DTEND;TZID=Europe/Berlin;VALUE=DATE-TIME:20121127T220000
DTSTAMP;VALUE=DATE-TIME:20210814T051240Z
UID:db14499e2a5d4e1084c5ee70bf688572@localhost:8080
CONTACT:http://www.scienceslam-im-wissenschaftsjahr.de/finale.html
CREATED;VALUE=DATE-TIME:20121106T153200Z
DESCRIPTION:PIK-Wissenschaflter Jobst Heitzig hat es ins Finale des Scienc
 e Slam geschafft. "Wissenschaftler reden viel\, monoton und oft unverstän
 dlich über ihr Arbeitsgebiet." Der Science Slam beweist das Gegenteil! In
  zehn Minuten bringen junge Wissenschaftlerinnen und Wissenschaftler ihr F
 orschungsthema auf spannende\, unterhaltsame und verständliche Art auf de
 n Punkt.
LAST-MODIFIED;VALUE=DATE-TIME:20200831T102626Z
LOCATION:Festsaal Kreuzberg\, Skalitzerstr. 130\, 10999 Berlin
URL:https://www.pik-potsdam.de/de/aktuelles/oeffentliche-veranstaltungen/s
 cience-slam-im-wissenschaftsjahr-das-finale-in-berlin
END:VEVENT
BEGIN:VTIMEZONE
TZID:Europe/Berlin
X-LIC-LOCATION:Europe/Berlin
BEGIN:STANDARD
DTSTART;VALUE=DATE-TIME:20121028T020000
TZNAME:CET
TZOFFSETFROM:+0200
TZOFFSETTO:+0100
END:STANDARD
END:VTIMEZONE
END:VCALENDAR
