BEGIN:VCALENDAR
VERSION:2.0
PRODID:-//Plone.org//NONSGML plone.app.event//EN
X-WR-TIMEZONE:Europe/Berlin
BEGIN:VEVENT
SUMMARY:Science Notes zum Klimawandel
DTSTART;TZID=Europe/Berlin;VALUE=DATE-TIME:20140913T200000
DTEND;TZID=Europe/Berlin;VALUE=DATE-TIME:20140913T200000
DTSTAMP;VALUE=DATE-TIME:20210814T051225Z
UID:8fe7512a81ce4e4d9ed4f73dcc85d208@localhost:8080
CONTACT:http://www.sciencenotes.de/
CREATED;VALUE=DATE-TIME:20140825T132156Z
DESCRIPTION:Am 13.09.2014 um 20 Uhr finden die Science Notes im Hamburger 
 Uebel & Gefährlich statt. Aktuelle Forschung zum Klimawandel in unterhalt
 samen Kurzvorträgen von renommierten Wissenschaftlern stehen auf dem Prog
 ramm - u.a. mit Dr. Ricarda Winkelmann vom PIK. 
LAST-MODIFIED;VALUE=DATE-TIME:20151012T092226Z
LOCATION:UEBEL & GEFÄHRLICH in Hamburg
URL:https://www.pik-potsdam.de/de/aktuelles/oeffentliche-veranstaltungen/s
 cience-notes-zum-klimawandel
END:VEVENT
BEGIN:VTIMEZONE
TZID:Europe/Berlin
X-LIC-LOCATION:Europe/Berlin
BEGIN:DAYLIGHT
DTSTART;VALUE=DATE-TIME:20140330T030000
TZNAME:CEST
TZOFFSETFROM:+0100
TZOFFSETTO:+0200
END:DAYLIGHT
END:VTIMEZONE
END:VCALENDAR
