BEGIN:VCALENDAR
VERSION:2.0
PRODID:-//Plone.org//NONSGML plone.app.event//EN
X-WR-TIMEZONE:Europe/Berlin
BEGIN:VEVENT
SUMMARY:Risiken und Folgen der Klimaerwärmung
DTSTART;TZID=Europe/Berlin;VALUE=DATE-TIME:20120426T190000
DTEND;TZID=Europe/Berlin;VALUE=DATE-TIME:20120426T210000
DTSTAMP;VALUE=DATE-TIME:20210814T051256Z
UID:e347a17020ec4f3ab02a9330f8923c1a@localhost:8080
CONTACT:http://www2.sbg.ac.at/pr/salzburgervorlesungen/kontakt.html
CREATED;VALUE=DATE-TIME:20120424T101810Z
DESCRIPTION:PIK-Direktor Hans Joachim Schellnhuber spricht bei der zweiten
  Salzburger Jubiläumsveranstaltung über aktuelle Entwicklungen in der Kl
 imaforschung. 
LAST-MODIFIED;VALUE=DATE-TIME:20151012T092248Z
LOCATION:Universität Salzburg
URL:https://www.pik-potsdam.de/de/aktuelles/oeffentliche-veranstaltungen/r
 isiken-und-folgen-der-klimaerwaermung
END:VEVENT
BEGIN:VTIMEZONE
TZID:Europe/Berlin
X-LIC-LOCATION:Europe/Berlin
BEGIN:DAYLIGHT
DTSTART;VALUE=DATE-TIME:20120325T030000
TZNAME:CEST
TZOFFSETFROM:+0100
TZOFFSETTO:+0200
END:DAYLIGHT
END:VTIMEZONE
END:VCALENDAR
