BEGIN:VCALENDAR
VERSION:2.0
PRODID:-//Plone.org//NONSGML plone.app.event//EN
X-WR-TIMEZONE:Europe/Berlin
BEGIN:VEVENT
SUMMARY:Rio+20: Unsere letzte Chance?!
DTSTART;TZID=Europe/Berlin;VALUE=DATE-TIME:20120604T183000
DTEND;TZID=Europe/Berlin;VALUE=DATE-TIME:20120604T210000
DTSTAMP;VALUE=DATE-TIME:20210814T051302Z
UID:490e31c444054cc5999fbeac8933005c@localhost:8080
CONTACT:http://www.ms-wissenschaft.de/programm/dialog-an-deck/dialog-berli
 n.html
CREATED;VALUE=DATE-TIME:20120515T104638Z
DESCRIPTION:PIK-Wissenschaftler Fritz Reusswig diskutiert am deutschen Akt
 ionstag Nachhaltigkeit im Rahmen der Veranstaltungsreihe Dialog an Deck ü
 ber mögliche Ergebnisse der Rio-Konferenz. 
LAST-MODIFIED;VALUE=DATE-TIME:20151012T092247Z
LOCATION:MS Wissenschaft\, Berliner HBF
URL:https://www.pik-potsdam.de/de/aktuelles/oeffentliche-veranstaltungen/r
 io-20-unsere-letzte-chance
END:VEVENT
BEGIN:VTIMEZONE
TZID:Europe/Berlin
X-LIC-LOCATION:Europe/Berlin
BEGIN:DAYLIGHT
DTSTART;VALUE=DATE-TIME:20120325T030000
TZNAME:CEST
TZOFFSETFROM:+0100
TZOFFSETTO:+0200
END:DAYLIGHT
END:VTIMEZONE
END:VCALENDAR
