BEGIN:VCALENDAR
VERSION:2.0
PRODID:-//Plone.org//NONSGML plone.app.event//EN
X-WR-TIMEZONE:Europe/Berlin
BEGIN:VEVENT
SUMMARY:REnKCO2: Regionales Energie- und Klimaschutzkonzept Großraum Brau
 nschweig
DTSTART;TZID=Europe/Berlin;VALUE=DATE-TIME:20120625T180000
DTEND;TZID=Europe/Berlin;VALUE=DATE-TIME:20120625T203000
DTSTAMP;VALUE=DATE-TIME:20210814T051257Z
UID:52b9d8f6e9ed4ef8851e1c2332c33bcf@localhost:8080
CONTACT:http://www.zgb.de/barrierefrei/content/regionalplanung/REnKCO2.sht
 ml
CREATED;VALUE=DATE-TIME:20120529T144131Z
DESCRIPTION:PIK-Direktor Hans Joachim Schellnhuber hält einen Gastvortrag
  zu den Herausforderungen des Klimawandels und der großen Transformation 
 auf der Abschlussveranstaltung zur ersten Projektphase von REnKCO2.
LAST-MODIFIED;VALUE=DATE-TIME:20151012T092246Z
LOCATION:Stadthalle\, Braunschweig
URL:https://www.pik-potsdam.de/de/aktuelles/oeffentliche-veranstaltungen/r
 enkco2-regionales-energie-und-klimaschutzkonzept-grossraum-braunschweig
END:VEVENT
BEGIN:VTIMEZONE
TZID:Europe/Berlin
X-LIC-LOCATION:Europe/Berlin
BEGIN:DAYLIGHT
DTSTART;VALUE=DATE-TIME:20120325T030000
TZNAME:CEST
TZOFFSETFROM:+0100
TZOFFSETTO:+0200
END:DAYLIGHT
END:VTIMEZONE
END:VCALENDAR
