BEGIN:VCALENDAR
VERSION:2.0
PRODID:-//Plone.org//NONSGML plone.app.event//EN
X-WR-TIMEZONE:Europe/Berlin
BEGIN:VEVENT
SUMMARY:PROtect GERA
DTSTART;TZID=Europe/Berlin;VALUE=DATE-TIME:20140905T100000
DTEND;TZID=Europe/Berlin;VALUE=DATE-TIME:20140907T150000
DTSTAMP;VALUE=DATE-TIME:20210814T051232Z
UID:b86582beda2c45ee806165daf20803bf@localhost:8080
CONTACT:http://www.gera.de/sixcms/detail.php?id=189271&_lang=de
CREATED;VALUE=DATE-TIME:20140814T163228Z
DESCRIPTION:Ausstellung und Konferenz für Hochwasser- und Katastrophensch
 utz als Plattform für Bürger\, Unternehmen\, sowie Städte\, Landkreise 
 und Gemeinden.
LAST-MODIFIED;VALUE=DATE-TIME:20151012T092226Z
LOCATION:Kultur- und Kongresszentrum\, Schloßstraße 1\, 07545 Gera 
URL:https://www.pik-potsdam.de/de/aktuelles/oeffentliche-veranstaltungen/p
 rotect-gera
END:VEVENT
BEGIN:VTIMEZONE
TZID:Europe/Berlin
X-LIC-LOCATION:Europe/Berlin
BEGIN:DAYLIGHT
DTSTART;VALUE=DATE-TIME:20140330T030000
TZNAME:CEST
TZOFFSETFROM:+0100
TZOFFSETTO:+0200
END:DAYLIGHT
END:VTIMEZONE
END:VCALENDAR
