BEGIN:VCALENDAR
VERSION:2.0
PRODID:-//Plone.org//NONSGML plone.app.event//EN
X-WR-TIMEZONE:Europe/Berlin
BEGIN:VEVENT
SUMMARY:Prima Klima in Brandenburg?
DTSTART;TZID=Europe/Berlin;VALUE=DATE-TIME:20121024T190000
DTEND;TZID=Europe/Berlin;VALUE=DATE-TIME:20121024T213000
DTSTAMP;VALUE=DATE-TIME:20210814T051239Z
UID:dc5682a83d1640728075d4975dde2a95@localhost:8080
CONTACT:http://www.boell-brandenburg.de/calendar/VA_viewevt.aspx?evtid=119
 15
CREATED;VALUE=DATE-TIME:20121022T104049Z
DESCRIPTION:Friedrich-Wilhelm Gerstengarbe Leiter der Forschungsabteilung 
 „Klimawirkung und Vulnerabilität“ am PIK ist zu Gast bei der Mittwoch
 sgesellschaft der Heinrich-Böll-Stiftung Brandenburg. Mit den Moderatoren
  spricht er über aktuelle Klima-Szenarien für Deutschland und diskutiert
  mögliche Anpassungsstrategien. Welche künftigen und bestehenden Risiken
  der regionalen Klimaentwicklung sind für Brandenburg ausschlaggebend? Wi
 e können sich lokale und regionale Akteure auf die kommenden Veränderung
 en einstellen?
LAST-MODIFIED;VALUE=DATE-TIME:20200831T102626Z
LOCATION:T-Werk\, Schiffbauergasse 4e\, 14467 Potsdam
URL:https://www.pik-potsdam.de/de/aktuelles/oeffentliche-veranstaltungen/p
 rima-klima-in-brandenburg
END:VEVENT
BEGIN:VTIMEZONE
TZID:Europe/Berlin
X-LIC-LOCATION:Europe/Berlin
BEGIN:DAYLIGHT
DTSTART;VALUE=DATE-TIME:20120325T030000
TZNAME:CEST
TZOFFSETFROM:+0100
TZOFFSETTO:+0200
END:DAYLIGHT
END:VTIMEZONE
END:VCALENDAR
