BEGIN:VCALENDAR
VERSION:2.0
PRODID:-//Plone.org//NONSGML plone.app.event//EN
X-WR-TIMEZONE:Europe/Berlin
BEGIN:VEVENT
SUMMARY:Potsdamer Tag der Wissenschaften: Ewiges Eis entfesselt
DTSTART;TZID=Europe/Berlin;VALUE=DATE-TIME:20150509T160000
DTEND;TZID=Europe/Berlin;VALUE=DATE-TIME:20150509T164500
DTSTAMP;VALUE=DATE-TIME:20210814T051145Z
UID:ef09fae461ef4a6e87bda1b5b86356a1@localhost:8080
CONTACT:http://www.potsdamertagderwissenschaften.de/programm/
CREATED;VALUE=DATE-TIME:20150506T103017Z
DESCRIPTION:Vortrag. Im Rahmen des Potsdamer Tages der Wissenschaften 2015
  referiert die PIK-Wissenschaftlerin Ricarda Winkelmann zu den Zusammenhä
 ngen zwischen dem Klimawandel und den aktuellen Veränderungen im antarkti
 schen Eisschild. Welche Konsequenzen hätte eine weitere Erwärmung? Ist d
 er Schwund des Eisschildes noch aufzuhalten?
LAST-MODIFIED;VALUE=DATE-TIME:20200831T102622Z
LOCATION:Haus 9\, 1. OG\, HS 1.02\, Universität Potsdam\, Am Neuen Palais
URL:https://www.pik-potsdam.de/de/aktuelles/oeffentliche-veranstaltungen/p
 otsdamer-tag-der-wissenschaften-ewiges-eis-entfesselt
END:VEVENT
BEGIN:VTIMEZONE
TZID:Europe/Berlin
X-LIC-LOCATION:Europe/Berlin
BEGIN:DAYLIGHT
DTSTART;VALUE=DATE-TIME:20150329T030000
TZNAME:CEST
TZOFFSETFROM:+0100
TZOFFSETTO:+0200
END:DAYLIGHT
END:VTIMEZONE
END:VCALENDAR
