BEGIN:VCALENDAR
VERSION:2.0
PRODID:-//Plone.org//NONSGML plone.app.event//EN
X-WR-TIMEZONE:Europe/Berlin
BEGIN:VEVENT
SUMMARY:Podiumsdiskussion zur Green Economy
DTSTART;TZID=Europe/Berlin;VALUE=DATE-TIME:20120905T113000
DTEND;TZID=Europe/Berlin;VALUE=DATE-TIME:20120905T123000
DTSTAMP;VALUE=DATE-TIME:20210814T051240Z
UID:67285f4ceb624bf6b41526ebcf10ae18@localhost:8080
CONTACT:http://www.fona.de/ge2012/programm.php
CREATED;VALUE=DATE-TIME:20120809T100332Z
DESCRIPTION:Ottmar Edenhofer\, stellvertretender Direktor des PIK\, diskut
 iert auf der Konferenz "Green Economy - Ein neues Wirtschaftswunder?"\, au
 sgerichtet vom Bundesministerium für Bildung und Forschung (BMBF) und dem
  Bundesministerium für Umwelt\, Naturschutz und Reaktorsicherheit (BMU)\,
  die Green Economy als Chance für wirtschaftliche Entwicklung\, Armutsbek
 ämpfung und Umweltschutz weltweit.\n\n\n\n\n
LAST-MODIFIED;VALUE=DATE-TIME:20200831T102625Z
URL:https://www.pik-potsdam.de/de/aktuelles/oeffentliche-veranstaltungen/p
 odiumsdiskussion-zur-green-economy
END:VEVENT
BEGIN:VTIMEZONE
TZID:Europe/Berlin
X-LIC-LOCATION:Europe/Berlin
BEGIN:DAYLIGHT
DTSTART;VALUE=DATE-TIME:20120325T030000
TZNAME:CEST
TZOFFSETFROM:+0100
TZOFFSETTO:+0200
END:DAYLIGHT
END:VTIMEZONE
END:VCALENDAR
