BEGIN:VCALENDAR
VERSION:2.0
PRODID:-//Plone.org//NONSGML plone.app.event//EN
X-WR-TIMEZONE:Europe/Berlin
BEGIN:VEVENT
SUMMARY:Planetare Grenzen und Gesellschaftliche Transformation
DTSTART;TZID=Europe/Berlin;VALUE=DATE-TIME:20130429T160000
DTEND;TZID=Europe/Berlin;VALUE=DATE-TIME:20130429T180000
DTSTAMP;VALUE=DATE-TIME:20210814T051308Z
UID:2d33e49b014f45388d195042e0d5b8f0@localhost:8080
CONTACT:Dr. Jutta Graf \, +49 8153 28 - 242 1\, http://www.dlr.de/dlr/desk
 topdefault.aspx/tabid-10291/424_read-132/
CREATED;VALUE=DATE-TIME:20130423T081235Z
DESCRIPTION:Wolfgang Lucht vom Potsdam-Institut für\nKlimafolgenforschung
  hält im Rahmen des Wissenschaftlichen Kolloquiums 2013 im Deutschen Zent
 rum für Luft- und Raumfahrt Oberpfaffenhofen einen Vortrag zum Thema „P
 lanetare Grenzen und Gesellschaftliche Transformation“.\n
LAST-MODIFIED;VALUE=DATE-TIME:20200831T102622Z
LOCATION:Deutsches Zentrum für Luft - und Raumfahrt\, Münchner Straße 2
 0\, 82234 Weßling\, Geb. 124\, 2. Obergeschoss\, Großer Seminarraum
URL:https://www.pik-potsdam.de/de/aktuelles/oeffentliche-veranstaltungen/p
 lanetare-grenzen-und-gesellschaftliche-transformation
END:VEVENT
BEGIN:VTIMEZONE
TZID:Europe/Berlin
X-LIC-LOCATION:Europe/Berlin
BEGIN:DAYLIGHT
DTSTART;VALUE=DATE-TIME:20130331T030000
TZNAME:CEST
TZOFFSETFROM:+0100
TZOFFSETTO:+0200
END:DAYLIGHT
END:VTIMEZONE
END:VCALENDAR
