BEGIN:VCALENDAR
VERSION:2.0
PRODID:-//Plone.org//NONSGML plone.app.event//EN
X-WR-TIMEZONE:Europe/Berlin
BEGIN:VEVENT
SUMMARY:Online-Vorlesung: Der Klimawandel und seine Folgen
DTSTART;TZID=Europe/Berlin;VALUE=DATE-TIME:20151109T120000
DTEND;TZID=Europe/Berlin;VALUE=DATE-TIME:20160209T120000
DTSTAMP;VALUE=DATE-TIME:20210814T051134Z
UID:7add7288414d49f6bda70de233f73b7b@localhost:8080
CONTACT:http://www.deutsches-klima-konsortium.de/de/bildung/online-vorlesu
 ng-mooc.html
CREATED;VALUE=DATE-TIME:20150824T105427Z
DESCRIPTION:Im Vorfeld der internationalen Klimaverhandlungen in Paris erk
 lären führende deutsche Klimawissenschaftler in einem interdisziplinäre
 n Massive Open Online Course (MOOC) für jedermann den Klimawandel und sei
 ne Folgen. In fünf Kapiteln mit kurzen Vorträgen\, Animationen und Grafi
 ken werden die Grundlagen der Klimawissenschaft bis hin zu den Folgen des 
 Klimawandels und damit einhergehende gesellschaftliche Herausforderungen e
 rläutert. Vom Potsdam-Institut für Klimafolgenforschung sind Hermann Lot
 ze-Campen\, Susanne Grossmann-Clarke und Manfred Stock beteiligt\, mit Bei
 trägen u.a. zu den Folgen des Klimawandels in Deutschland und weltweit un
 d den Risiken plötzlicher und unumkehrbarer Veränderungen. Kostenfreie A
 nmeldung erforderlich.
LAST-MODIFIED;VALUE=DATE-TIME:20200831T102624Z
URL:https://www.pik-potsdam.de/de/aktuelles/oeffentliche-veranstaltungen/o
 nline-vorlesung-der-klimawandel-und-seine-folgen
END:VEVENT
BEGIN:VTIMEZONE
TZID:Europe/Berlin
X-LIC-LOCATION:Europe/Berlin
BEGIN:STANDARD
DTSTART;VALUE=DATE-TIME:20151025T020000
TZNAME:CET
TZOFFSETFROM:+0200
TZOFFSETTO:+0100
END:STANDARD
END:VTIMEZONE
END:VCALENDAR
