BEGIN:VCALENDAR
VERSION:2.0
PRODID:-//Plone.org//NONSGML plone.app.event//EN
X-WR-TIMEZONE:Europe/Berlin
BEGIN:VEVENT
SUMMARY:Öffentliche Dialogveranstaltung: Klimawandel und Klimaschutz. Glo
 bale Transformation – Nationale Herausforderungen
DTSTART;TZID=Europe/Berlin;VALUE=DATE-TIME:20140902T171500
DTEND;TZID=Europe/Berlin;VALUE=DATE-TIME:20140902T220000
DTSTAMP;VALUE=DATE-TIME:20210814T051228Z
UID:bfd8ed3191b44650b870127fd63b5918@localhost:8080
CONTACT:http://www.michaelottostiftung.de/de/startseite/subTeaser/01/text_
 files/file/mos017_Stiftungsprofessur_Flyer_A4_140716.pdf
CREATED;VALUE=DATE-TIME:20140815T084620Z
DESCRIPTION:Irrwege und Auswege der Klimakrise. Wohin die Welt sich wenden
  kann – und wohin Deutschland. Eine Debatte zwischen Wissenschaft\, Poli
 tik\, Wirtschaft und Gesellschaft über die größte Herausforderung unser
 es Jahrhunderts.
LAST-MODIFIED;VALUE=DATE-TIME:20151012T092227Z
LOCATION:Mozartsäle Hamburg\, Moorweidenstraße 36\, 20146 Hamburg
URL:https://www.pik-potsdam.de/de/aktuelles/oeffentliche-veranstaltungen/o
 effentliche-dialogveranstaltung-klimawandel-und-klimaschutz-globale-transf
 ormation-nationale-herausforderungen
END:VEVENT
BEGIN:VTIMEZONE
TZID:Europe/Berlin
X-LIC-LOCATION:Europe/Berlin
BEGIN:DAYLIGHT
DTSTART;VALUE=DATE-TIME:20140330T030000
TZNAME:CEST
TZOFFSETFROM:+0100
TZOFFSETTO:+0200
END:DAYLIGHT
END:VTIMEZONE
END:VCALENDAR
