BEGIN:VCALENDAR
VERSION:2.0
PRODID:-//Plone.org//NONSGML plone.app.event//EN
X-WR-TIMEZONE:Europe/Berlin
BEGIN:VEVENT
SUMMARY:Nobelpreisträger-Symposium 2015 "4C: Changing Climate\, Changing 
 Cities"
DTSTART;TZID=Europe/Berlin;VALUE=DATE-TIME:20150422T150000
DTEND;TZID=Europe/Berlin;VALUE=DATE-TIME:20150425T180000
DTSTAMP;VALUE=DATE-TIME:20210814T051234Z
UID:98179f05252f4291b1517fbc5fcf8ece@localhost:8080
CONTACT:http://www.nobel-cause.de
CREATED;VALUE=DATE-TIME:20150415T125729Z
DESCRIPTION:Das Potsdam-Institut für Klimafolgenforschung veranstaltet di
 eses Jahr zum vierten Mal das internationale Nobel-Cause-Symposium zu glob
 aler Nachhaltigkeit. Nobelpreisträger_Innen und Nachwuchswissenschaftler_
 Innen aus aller Welt diskutieren über die Probleme unseres Planeten und s
 chlagen gemeinsame Lösungsstrategien vor. Die Veranstaltung findet dieses
  Jahr in Hong Kong statt und widmet sich dem Thema "4C: Changing Climate\,
  Changing Cities".
LAST-MODIFIED;VALUE=DATE-TIME:20200831T102624Z
LOCATION:JW Marriott Hotel Hong Kong
URL:https://www.pik-potsdam.de/de/aktuelles/oeffentliche-veranstaltungen/n
 obel-laureates-symposium-2015-4c-changing-climate-changing-cities
END:VEVENT
BEGIN:VTIMEZONE
TZID:Europe/Berlin
X-LIC-LOCATION:Europe/Berlin
BEGIN:DAYLIGHT
DTSTART;VALUE=DATE-TIME:20150329T030000
TZNAME:CEST
TZOFFSETFROM:+0100
TZOFFSETTO:+0200
END:DAYLIGHT
END:VTIMEZONE
END:VCALENDAR
