BEGIN:VCALENDAR
VERSION:2.0
PRODID:-//Plone.org//NONSGML plone.app.event//EN
X-WR-TIMEZONE:Europe/Berlin
BEGIN:VEVENT
SUMMARY:Neuer Negativ-Rekord in der Arktis – Was bedeutet das Meereis-Mi
 nimum für unser Klima?
DTSTART;TZID=Europe/Berlin;VALUE=DATE-TIME:20120919T110000
DTEND;TZID=Europe/Berlin;VALUE=DATE-TIME:20120919T130000
DTSTAMP;VALUE=DATE-TIME:20210814T051247Z
UID:8ec0d1c471e44b319c5c4cb91c9f4308@localhost:8080
ATTENDEE;CN="Anders Levermann, Potsdam-Institut für Klimafolgenforschung"
 ;ROLE=REQ-PARTICIPANT:Anders Levermann, Potsdam-Institut für Klimafolgenf
 orschung
ATTENDEE;CN="Peter Lemke and Rüdiger Gerdes, Alfred-Wegener-Institut";ROL
 E=REQ-PARTICIPANT:Peter Lemke and Rüdiger Gerdes, Alfred-Wegener-Institut
ATTENDEE;CN="Georg Heygster, Universität Bremen";ROLE=REQ-PARTICIPANT:Geo
 rg Heygster, Universität Bremen
ATTENDEE;CN="Lars Kaleschke, Universität Hamburg";ROLE=REQ-PARTICIPANT:La
 rs Kaleschke, Universität Hamburg
ATTENDEE;CN="Dirk Notz, Max-Planck-Institut für Meteorologie";ROLE=REQ-PA
 RTICIPANT:Dirk Notz, Max-Planck-Institut für Meteorologie
ATTENDEE;CN="Jürgen Holfort, Bundesamt für Seeschifffahrt und Hydrograph
 ie";ROLE=REQ-PARTICIPANT:Jürgen Holfort, Bundesamt für Seeschifffahrt un
 d Hydrographie
CREATED;VALUE=DATE-TIME:20120914T152454Z
DESCRIPTION:Anders Levermann\, Ko-Leiter des PIK-Forschungsbereichs III\, 
 erklärt in einer Pressekonferenz mit führenden Eisforschern die Hintergr
 ünde zum neuen Negativ-Rekord in der Arktis. \n\n
LAST-MODIFIED;VALUE=DATE-TIME:20200831T102625Z
LOCATION:Hauptgebäude der Universität Hamburg (Hörsaal M)
URL:https://www.pik-potsdam.de/de/aktuelles/oeffentliche-veranstaltungen/n
 euer-negativ-rekord-in-der-arktis-2013-was-bedeutet-das-meereis-minimum-fu
 er-unser-klima
END:VEVENT
BEGIN:VTIMEZONE
TZID:Europe/Berlin
X-LIC-LOCATION:Europe/Berlin
BEGIN:DAYLIGHT
DTSTART;VALUE=DATE-TIME:20120325T030000
TZNAME:CEST
TZOFFSETFROM:+0100
TZOFFSETTO:+0200
END:DAYLIGHT
END:VTIMEZONE
END:VCALENDAR
