BEGIN:VCALENDAR
VERSION:2.0
PRODID:-//Plone.org//NONSGML plone.app.event//EN
X-WR-TIMEZONE:Europe/Berlin
BEGIN:VEVENT
SUMMARY:Meßkircher Klimagipfel
DTSTART;TZID=Europe/Berlin;VALUE=DATE-TIME:20150914T190000
DTEND;TZID=Europe/Berlin;VALUE=DATE-TIME:20150914T203000
DTSTAMP;VALUE=DATE-TIME:20210814T051143Z
UID:e5b868ae362a4ce99e04760adee517b9@localhost:8080
CONTACT:http://www.energiewende.htwg-konstanz.de/index.php?eID=tx_nawsecur
 edl&u=0&g=0&t=1440499964&hash=8557d11a8c0bc0b813ad747e18b01b6b78fac280&fil
 e=fileadmin/media/iqf_ew/downloads/Veranstaltungen/Flyer_Messkircher_Klima
 gipfel.pdf
CREATED;VALUE=DATE-TIME:20150824T095928Z
DESCRIPTION:Vortrag. Die Kleinstadt Meßkirch in Baden-Württemberg wurde 
 im Juni 2015 von einem Hochwasser heimgesucht\, im nahen Bonndorf gab es e
 in Tornadoereignis und am nicht fernen Bodensee vernichtete die Sonne gro
 ße Teile der Obsternte. Anlässlich dieser Ereignisse referiert PIK-Wisse
 nschaftler Stefan Rahmstorf auf dem regionalen Klimagipfel zum aktuellen S
 tand der Wissenschaft zu Klimawandel und Klimaschutz.
LAST-MODIFIED;VALUE=DATE-TIME:20200831T102624Z
LOCATION:Schloß Meßkirch
URL:https://www.pik-potsdam.de/de/aktuelles/oeffentliche-veranstaltungen/m
 esskircher-klimagipfel
END:VEVENT
BEGIN:VTIMEZONE
TZID:Europe/Berlin
X-LIC-LOCATION:Europe/Berlin
BEGIN:DAYLIGHT
DTSTART;VALUE=DATE-TIME:20150329T030000
TZNAME:CEST
TZOFFSETFROM:+0100
TZOFFSETTO:+0200
END:DAYLIGHT
END:VTIMEZONE
END:VCALENDAR
