BEGIN:VCALENDAR
VERSION:2.0
PRODID:-//Plone.org//NONSGML plone.app.event//EN
X-WR-TIMEZONE:Europe/Berlin
BEGIN:VEVENT
SUMMARY:Menschheitserbe Meer: Seine Bedeutung\, unsere Verantwortung
DTSTART;TZID=Europe/Berlin;VALUE=DATE-TIME:20150909T163000
DTEND;TZID=Europe/Berlin;VALUE=DATE-TIME:20150909T173000
DTSTAMP;VALUE=DATE-TIME:20210814T051147Z
UID:b5743dcf0e9b461197fd8227e960e1cf@localhost:8080
CONTACT:http://www.uni-kiel.de/pressemeldungen/?pmid=2015-293-schellnhuber
 -vortrag
CREATED;VALUE=DATE-TIME:20150908T142641Z
DESCRIPTION:Vortrag. Die Erde befindet sich im Zeitalter des Anthropozän 
 - der Mensch beeinflusst mit seinem Handeln den Naturraum mehr denn je zuv
 or. Wie haben sich die Weltmeere im Zusammenspiel mit dem Klimasystem bere
 its verändert - welche weiteren Entwicklungen sind zu erwarten? Und mit w
 elchen Maßnahmen ließe sich das Menschheitserbe Meer noch bewahren? Zu d
 iesen Fragen und mehr spricht PIK-Direktor Hans Joachim Schellnhuber im le
 tzten Vortrag der Reihe "Ozeane der Zukunft" an der Universität Kiel. Der
  Eintritt ist frei.
LAST-MODIFIED;VALUE=DATE-TIME:20200831T102624Z
LOCATION:Audimax\, Christian-Albrechts-Universität zu Kiel
URL:https://www.pik-potsdam.de/de/aktuelles/oeffentliche-veranstaltungen/m
 enschheitserbe-meer-seine-bedeutung-unsere-verantwortung
END:VEVENT
BEGIN:VTIMEZONE
TZID:Europe/Berlin
X-LIC-LOCATION:Europe/Berlin
BEGIN:DAYLIGHT
DTSTART;VALUE=DATE-TIME:20150329T030000
TZNAME:CEST
TZOFFSETFROM:+0100
TZOFFSETTO:+0200
END:DAYLIGHT
END:VTIMEZONE
END:VCALENDAR
