BEGIN:VCALENDAR
VERSION:2.0
PRODID:-//Plone.org//NONSGML plone.app.event//EN
X-WR-TIMEZONE:Europe/Berlin
BEGIN:VEVENT
SUMMARY:Lösungsansätze für eine 2°-Wirtschaft
DTSTART;TZID=Europe/Berlin;VALUE=DATE-TIME:20150316T170000
DTEND;TZID=Europe/Berlin;VALUE=DATE-TIME:20150316T200000
DTSTAMP;VALUE=DATE-TIME:20210814T051227Z
UID:51e08b6b8aa54c948c2c8c5ba366bbf1@localhost:8080
CONTACT:http://www.stiftung2grad.de/media/documents/pdf/de/2015/02/einladu
 ng-bielefeld-veranstaltung.pdf
CREATED;VALUE=DATE-TIME:20150313T111325Z
DESCRIPTION:Vorträge mit anschließender Podiumsdiskussion. Klimaschutz u
 nd die Anpassung an den Klimawandel stellen einige der wichtigsten Herausf
 orderungen des 21. Jahrhunderts dar. Insbesondere urbane Räume werden die
 sbezüglich in Zukunft Brennpunkte sein. Im Rahmen des IHK-Umweltforums 20
 15 "Klimawandel: Herausforderung für eine zukunftsweisende Stadt- und Geb
 äudeplanung" spricht PIK-Chefökonom Ottmar Edenhofer zu den Auswirkungen
  des Klimawandels auf die Wirtschaft und Lösungsansätzen für eine 2°-W
 irtschaft.
LAST-MODIFIED;VALUE=DATE-TIME:20200831T102622Z
LOCATION:Schüco International AG\, Bielefeld
URL:https://www.pik-potsdam.de/de/aktuelles/oeffentliche-veranstaltungen/l
 oesungsansaetze-fuer-eine-2deg-wirtschaft
END:VEVENT
BEGIN:VTIMEZONE
TZID:Europe/Berlin
X-LIC-LOCATION:Europe/Berlin
BEGIN:STANDARD
DTSTART;VALUE=DATE-TIME:20141026T020000
TZNAME:CET
TZOFFSETFROM:+0200
TZOFFSETTO:+0100
END:STANDARD
END:VTIMEZONE
END:VCALENDAR
