BEGIN:VCALENDAR
VERSION:2.0
PRODID:-//Plone.org//NONSGML plone.app.event//EN
X-WR-TIMEZONE:Europe/Berlin
BEGIN:VEVENT
SUMMARY:Lesart: Rio 20 Jahre später
DTSTART;TZID=Europe/Berlin;VALUE=DATE-TIME:20120619T200000
DTEND;TZID=Europe/Berlin;VALUE=DATE-TIME:20120619T220000
DTSTAMP;VALUE=DATE-TIME:20210814T051259Z
UID:69e7856484484bafb212d52e179e3ffe@localhost:8080
CONTACT:http://www.dradio.de/veranstaltungen/1774940/
CREATED;VALUE=DATE-TIME:20120606T110612Z
DESCRIPTION:PIK-Wissenschaftler Ottmar Edenhofer stellt bei Lesart Spezial
  - ausgerichtet von Deutschlandradio Kultur in Kooperation mit dem Kulturw
 issenschaftlichen Insitut Essen und der WAZ - das neuerschienene Buch "Cli
 mate Change\, Justice\, and Sustainability" vor. 
LAST-MODIFIED;VALUE=DATE-TIME:20151012T092247Z
LOCATION:Grillo Theater\, Essen
URL:https://www.pik-potsdam.de/de/aktuelles/oeffentliche-veranstaltungen/l
 esart-rio-20-jahre-spaeter
END:VEVENT
BEGIN:VTIMEZONE
TZID:Europe/Berlin
X-LIC-LOCATION:Europe/Berlin
BEGIN:DAYLIGHT
DTSTART;VALUE=DATE-TIME:20120325T030000
TZNAME:CEST
TZOFFSETFROM:+0100
TZOFFSETTO:+0200
END:DAYLIGHT
END:VTIMEZONE
END:VCALENDAR
