BEGIN:VCALENDAR
VERSION:2.0
PRODID:-//Plone.org//NONSGML plone.app.event//EN
X-WR-TIMEZONE:Europe/Berlin
BEGIN:VEVENT
SUMMARY:Lange Nacht der Wissenschaften 2015
DTSTART;TZID=Europe/Berlin;VALUE=DATE-TIME:20150613T170000
DTEND;TZID=Europe/Berlin;VALUE=DATE-TIME:20150613T235500
DTSTAMP;VALUE=DATE-TIME:20210814T051143Z
UID:4aaa7ee89e73466db81b1c0d6a0c65bd@localhost:8080
CONTACT:http://www.langenachtderwissenschaften.de/Allgemeines_7.html
CREATED;VALUE=DATE-TIME:20150128T161331Z
DESCRIPTION:An einem lauen Juniabend öffnen alljährlich dutzende wissens
 chaftliche Einrichtungen in Berlin und Potsdam ihre Pforten für die Allge
 meinheit. Dabei begeistern sie die Menschen mit interaktiven Veranstaltung
 en für ihre Arbeit und aktuelle Erkenntnisse. Auch das Potsdam-Institut f
 ür Klimafolgenforschung ist dieses Jahr wieder dabei. Nähere Information
 en zum Programm folgen.
LAST-MODIFIED;VALUE=DATE-TIME:20200831T102622Z
LOCATION:Potsdam-Institut für Klimafolgenforschung
URL:https://www.pik-potsdam.de/de/aktuelles/oeffentliche-veranstaltungen/l
 ange-nacht-der-wissenschaften-2015
END:VEVENT
BEGIN:VTIMEZONE
TZID:Europe/Berlin
X-LIC-LOCATION:Europe/Berlin
BEGIN:DAYLIGHT
DTSTART;VALUE=DATE-TIME:20150329T030000
TZNAME:CEST
TZOFFSETFROM:+0100
TZOFFSETTO:+0200
END:DAYLIGHT
END:VTIMEZONE
END:VCALENDAR
