BEGIN:VCALENDAR
VERSION:2.0
PRODID:-//Plone.org//NONSGML plone.app.event//EN
X-WR-TIMEZONE:Europe/Berlin
BEGIN:VEVENT
SUMMARY:Lange Nacht der Wissenschaften 2012
DTSTART;TZID=Europe/Berlin;VALUE=DATE-TIME:20120602T170000
DTEND;TZID=Europe/Berlin;VALUE=DATE-TIME:20120602T235500
DTSTAMP;VALUE=DATE-TIME:20210814T051256Z
UID:f3e8838004064ef09b4469c6fa13619d@localhost:8080
CONTACT:http://www.langenachtderwissenschaften.de/index.php?article_id=76&
 route_id=9
CREATED;VALUE=DATE-TIME:20120503T105903Z
DESCRIPTION:Welche Möglichkeiten haben wir noch\, die globale Erwärmung 
 zu begrenzen und uns an unvermeidbare Folgen anzupassen? Diese und andere 
 Fragen können am PIK in der Langen Nacht der Wissenschaften mit Forschern
  der verschiedenen Fachbereiche erörtert werden. Neben Vorträgen zu Wett
 erextremen oder dem Einfluss der Sonne auf das Klima stehen unter anderem 
 Simulationen und Kurzfilme auf dem Programm.\n\n
LAST-MODIFIED;VALUE=DATE-TIME:20151012T092247Z
LOCATION:PIK
URL:https://www.pik-potsdam.de/de/aktuelles/oeffentliche-veranstaltungen/l
 ange-nacht-der-wissenschaften-2012
END:VEVENT
BEGIN:VTIMEZONE
TZID:Europe/Berlin
X-LIC-LOCATION:Europe/Berlin
BEGIN:DAYLIGHT
DTSTART;VALUE=DATE-TIME:20120325T030000
TZNAME:CEST
TZOFFSETFROM:+0100
TZOFFSETTO:+0200
END:DAYLIGHT
END:VTIMEZONE
END:VCALENDAR
