BEGIN:VCALENDAR
VERSION:2.0
PRODID:-//Plone.org//NONSGML plone.app.event//EN
X-WR-TIMEZONE:Europe/Berlin
BEGIN:VEVENT
SUMMARY:Konferenz "Renewable Energy Finance"
DTSTART;TZID=Europe/Berlin;VALUE=DATE-TIME:20120523T090000
DTEND;TZID=Europe/Berlin;VALUE=DATE-TIME:20120523T180000
DTSTAMP;VALUE=DATE-TIME:20210814T051301Z
UID:68e498583ff74cc0896f49b99870c948@localhost:8080
CONTACT:http://www.frankfurt-school-verlag.de/verlag/konferenz/renewable_e
 nergy_finance2012.html
CREATED;VALUE=DATE-TIME:20120515T102702Z
DESCRIPTION:PIK-Direktor Hans Joachim Schellnhuber hält einen Vortrag auf
  der "Renewable Energy Finance" Konferenz\, ausgerichtet von dem Frankfurt
  School Verlag und dem Frankfurt School UNEP Collaborating Centre for Clim
 ate & Sustainable Energy Finance.  
LAST-MODIFIED;VALUE=DATE-TIME:20151012T092248Z
LOCATION:Frankfurt School of Finance\, Campus
URL:https://www.pik-potsdam.de/de/aktuelles/oeffentliche-veranstaltungen/k
 onferenz-renewable-energy-finance
END:VEVENT
BEGIN:VTIMEZONE
TZID:Europe/Berlin
X-LIC-LOCATION:Europe/Berlin
BEGIN:DAYLIGHT
DTSTART;VALUE=DATE-TIME:20120325T030000
TZNAME:CEST
TZOFFSETFROM:+0100
TZOFFSETTO:+0200
END:DAYLIGHT
END:VTIMEZONE
END:VCALENDAR
