BEGIN:VCALENDAR
VERSION:2.0
PRODID:-//Plone.org//NONSGML plone.app.event//EN
X-WR-TIMEZONE:Europe/Berlin
BEGIN:VEVENT
SUMMARY:Konferenz: IMPACTS WORLD 2013 
DTSTART;TZID=Europe/Berlin;VALUE=DATE-TIME:20130527T120000
DTEND;TZID=Europe/Berlin;VALUE=DATE-TIME:20130530T020000
DTSTAMP;VALUE=DATE-TIME:20210814T051306Z
UID:cb5beca7c64b46bcae77b2896c21d3b3@localhost:8080
CONTACT:http://climate-impacts-2013.org/
CREATED;VALUE=DATE-TIME:20130128T100155Z
DESCRIPTION:Das PIK organisiert die "IMPACTS WORLD 2013" Konferenz mit dem
  Ziel eine neue Vision für die Klimafolgenforschung zu entwickeln. Die Ko
 nferenz bringt führende Wissenschaftler und Entscheidungsträger von der 
 lokalen bis zur internationalen Ebene zusammen.
LAST-MODIFIED;VALUE=DATE-TIME:20200831T102626Z
LOCATION:Potsdam
URL:https://www.pik-potsdam.de/de/aktuelles/oeffentliche-veranstaltungen/k
 onferenz-impacts-world-2013
END:VEVENT
BEGIN:VTIMEZONE
TZID:Europe/Berlin
X-LIC-LOCATION:Europe/Berlin
BEGIN:DAYLIGHT
DTSTART;VALUE=DATE-TIME:20130331T030000
TZNAME:CEST
TZOFFSETFROM:+0100
TZOFFSETTO:+0200
END:DAYLIGHT
END:VTIMEZONE
END:VCALENDAR
