BEGIN:VCALENDAR
VERSION:2.0
PRODID:-//Plone.org//NONSGML plone.app.event//EN
X-WR-TIMEZONE:Europe/Berlin
BEGIN:VEVENT
SUMMARY:Konferenz: Herausforderungen des Klimawandels für Nordchina 
DTSTART;TZID=Europe/Berlin;VALUE=DATE-TIME:20121017T080000
DTEND;TZID=Europe/Berlin;VALUE=DATE-TIME:20121018T230000
DTSTAMP;VALUE=DATE-TIME:20210814T051247Z
UID:d8018ed85a5a4862bbe208767be7d995@localhost:8080
CONTACT:http://guanting.pik-potsdam.de/events/final-conference-guanting-pr
 oject
CREATED;VALUE=DATE-TIME:20121011T132252Z
DESCRIPTION:PIK-Wissenschaflter sowie chinesische und deutsche Partner des
  Guanting-Projektes präsentieren die Ergebnisse ihrer Forschung zu Klimaf
 olgen für Wasserkreislauf\, Wasserqualität und -quantität auf einer zwe
 itägigen Konferenz in Peking.
LAST-MODIFIED;VALUE=DATE-TIME:20200831T102625Z
LOCATION:Sino‐German Center for Research Promotion\, Shuangqing Road 83\
 , Peking\, China
URL:https://www.pik-potsdam.de/de/aktuelles/oeffentliche-veranstaltungen/k
 onferenz-herausforderungen-des-klimawandels-fuer-nordchina
END:VEVENT
BEGIN:VTIMEZONE
TZID:Europe/Berlin
X-LIC-LOCATION:Europe/Berlin
BEGIN:DAYLIGHT
DTSTART;VALUE=DATE-TIME:20120325T030000
TZNAME:CEST
TZOFFSETFROM:+0100
TZOFFSETTO:+0200
END:DAYLIGHT
END:VTIMEZONE
END:VCALENDAR
