BEGIN:VCALENDAR
VERSION:2.0
PRODID:-//Plone.org//NONSGML plone.app.event//EN
X-WR-TIMEZONE:Europe/Berlin
BEGIN:VEVENT
SUMMARY:Konferenz aus Anlass des 60. Geburtstags von Prof. Jürgen Kurths
DTSTART;TZID=Europe/Berlin;VALUE=DATE-TIME:20130321T130000
DTEND;TZID=Europe/Berlin;VALUE=DATE-TIME:20130322T184500
DTSTAMP;VALUE=DATE-TIME:20210814T051311Z
UID:f1f2d62cc06e4a17ae801248ace13c46@localhost:8080
CONTACT:http://nda13.pik-potsdam.de/index.php?a=programme
CREATED;VALUE=DATE-TIME:20130124T110758Z
DESCRIPTION:Der Leiter des PIK-Forschungsbereichs "Transdisziplinäre Konz
 epte und Methoden"\, Jürgen Kurths\, feiert seinen 60. Geburtstag. Aus di
 esem Anlass werden im Rahmen der Konferenz "Nonlinear Data Analysis and Mo
 deling: Advances\, Applications\, Perspectives" am Donnerstag\, 21. März 
 2013 und Freitag\, 22. März 2013 mehrere Symposien durchgeführt.\n
LAST-MODIFIED;VALUE=DATE-TIME:20200831T102626Z
URL:https://www.pik-potsdam.de/de/aktuelles/oeffentliche-veranstaltungen/k
 onferenz-aus-anlass-des-60.-geburtstags-von-prof.-juergen-kurths
END:VEVENT
BEGIN:VTIMEZONE
TZID:Europe/Berlin
X-LIC-LOCATION:Europe/Berlin
BEGIN:STANDARD
DTSTART;VALUE=DATE-TIME:20121028T020000
TZNAME:CET
TZOFFSETFROM:+0200
TZOFFSETTO:+0100
END:STANDARD
END:VTIMEZONE
END:VCALENDAR
